BEGIN:VCALENDAR
VERSION:2.0
PRODID:-//Entrada Institute - ECPv6.15.20//NONSGML v1.0//EN
CALSCALE:GREGORIAN
METHOD:PUBLISH
X-WR-CALNAME:Entrada Institute
X-ORIGINAL-URL:https://www.entradainstitute.org
X-WR-CALDESC:Events for Entrada Institute
REFRESH-INTERVAL;VALUE=DURATION:PT1H
X-Robots-Tag:noindex
X-PUBLISHED-TTL:PT1H
BEGIN:VTIMEZONE
TZID:America/Denver
BEGIN:DAYLIGHT
TZOFFSETFROM:-0700
TZOFFSETTO:-0600
TZNAME:MDT
DTSTART:20220313T090000
END:DAYLIGHT
BEGIN:STANDARD
TZOFFSETFROM:-0600
TZOFFSETTO:-0700
TZNAME:MST
DTSTART:20221106T080000
END:STANDARD
BEGIN:DAYLIGHT
TZOFFSETFROM:-0700
TZOFFSETTO:-0600
TZNAME:MDT
DTSTART:20230312T090000
END:DAYLIGHT
BEGIN:STANDARD
TZOFFSETFROM:-0600
TZOFFSETTO:-0700
TZNAME:MST
DTSTART:20231105T080000
END:STANDARD
BEGIN:DAYLIGHT
TZOFFSETFROM:-0700
TZOFFSETTO:-0600
TZNAME:MDT
DTSTART:20240310T090000
END:DAYLIGHT
BEGIN:STANDARD
TZOFFSETFROM:-0600
TZOFFSETTO:-0700
TZNAME:MST
DTSTART:20241103T080000
END:STANDARD
BEGIN:DAYLIGHT
TZOFFSETFROM:-0700
TZOFFSETTO:-0600
TZNAME:MDT
DTSTART:20250309T090000
END:DAYLIGHT
BEGIN:STANDARD
TZOFFSETFROM:-0600
TZOFFSETTO:-0700
TZNAME:MST
DTSTART:20251102T080000
END:STANDARD
END:VTIMEZONE
BEGIN:VEVENT
DTSTART;TZID=America/Denver:20240525T190000
DTEND;TZID=America/Denver:20240525T200000
DTSTAMP:20260420T215302
CREATED:20240312T054417Z
LAST-MODIFIED:20240419T002803Z
UID:9576-1716663600-1716667200@www.entradainstitute.org
SUMMARY:SANDY AND THE SILVER DOGS: Classic Folk/Pop/Rock
DESCRIPTION:
URL:https://www.entradainstitute.org/event/sandy-and-the-silver-dogs-classic-folk-pop-rock/
LOCATION:ROBBERS ROOST\, 185 West Main Street\, Torrey\, UT\, 84775\, United States
ATTACH;FMTTYPE=image/png:https://www.entradainstitute.org/wp-content/uploads/2019/08/2019_Entrada_Brochure_Cover.png
ORGANIZER;CN="Don Gomes":MAILTO:sunset@entradainstitute.org
END:VEVENT
BEGIN:VEVENT
DTSTART;TZID=America/Denver:20240516T100000
DTEND;TZID=America/Denver:20240518T200000
DTSTAMP:20260420T215302
CREATED:20240205T191645Z
LAST-MODIFIED:20240617T205420Z
UID:9558-1715853600-1716062400@www.entradainstitute.org
SUMMARY:WRITING FROM THE LAND WORKSHOP
DESCRIPTION:The Entrada Institute presents Writing from the Land Workshop\nJoin us in beautiful Torrey\, Utah from May 16-18 \n\nOpen to writers of all levels of experience and genres\nIncludes instruction from faculty\, readings\, manuscript consultations\, and panel discussions\nInspire your creativity in a friendly\, supportive environment
URL:https://www.entradainstitute.org/event/writing-from-the-land-workshop-2/
LOCATION:ROBBERS ROOST\, 185 West Main Street\, Torrey\, UT\, 84775\, United States
ATTACH;FMTTYPE=image/png:https://www.entradainstitute.org/wp-content/uploads/2019/08/2019_Entrada_Brochure_Cover.png
ORGANIZER;CN="Don Gomes":MAILTO:sunset@entradainstitute.org
END:VEVENT
BEGIN:VEVENT
DTSTART;TZID=America/Denver:20240511T190000
DTEND;TZID=America/Denver:20240511T200000
DTSTAMP:20260420T215302
CREATED:20240312T053536Z
LAST-MODIFIED:20240419T003321Z
UID:9574-1715454000-1715457600@www.entradainstitute.org
SUMMARY:WADE ALLINSON presents: SHERIFF JESSE TYLER
DESCRIPTION:
URL:https://www.entradainstitute.org/event/wade-allinson-area-history/
LOCATION:ROBBERS ROOST\, 185 West Main Street\, Torrey\, UT\, 84775\, United States
ATTACH;FMTTYPE=image/png:https://www.entradainstitute.org/wp-content/uploads/2019/08/2019_Entrada_Brochure_Cover.png
ORGANIZER;CN="Don Gomes":MAILTO:sunset@entradainstitute.org
END:VEVENT
BEGIN:VEVENT
DTSTART;TZID=America/Denver:20240509T190000
DTEND;TZID=America/Denver:20240509T200000
DTSTAMP:20260420T215302
CREATED:20240123T032757Z
LAST-MODIFIED:20240418T172355Z
UID:9542-1715281200-1715284800@www.entradainstitute.org
SUMMARY:CLASSIC CONVERSATION: NOREEN JOHNSON\, Mayor of Bicknell
DESCRIPTION:
URL:https://www.entradainstitute.org/event/classic-conversation-tbd/
LOCATION:ROBBERS ROOST\, 185 West Main Street\, Torrey\, UT\, 84775\, United States
ORGANIZER;CN="Don Gomes":MAILTO:sunset@entradainstitute.org
END:VEVENT
BEGIN:VEVENT
DTSTART;TZID=America/Denver:20240504T190000
DTEND;TZID=America/Denver:20240504T200000
DTSTAMP:20260420T215302
CREATED:20240312T053245Z
LAST-MODIFIED:20240419T002555Z
UID:9572-1714849200-1714852800@www.entradainstitute.org
SUMMARY:CORA MAE TAYLOR & FRIENDS: Red\, White\, Blue\, and Green Music
DESCRIPTION:
URL:https://www.entradainstitute.org/event/cora-mae-taylor-friends-red-white-blue-and-green-music/
LOCATION:ROBBERS ROOST\, 185 West Main Street\, Torrey\, UT\, 84775\, United States
ATTACH;FMTTYPE=image/png:https://www.entradainstitute.org/wp-content/uploads/2019/08/2019_Entrada_Brochure_Cover.png
ORGANIZER;CN="Don Gomes":MAILTO:sunset@entradainstitute.org
END:VEVENT
BEGIN:VEVENT
DTSTART;TZID=America/Denver:20240427T190000
DTEND;TZID=America/Denver:20240427T200000
DTSTAMP:20260420T215302
CREATED:20240123T035603Z
LAST-MODIFIED:20240321T003529Z
UID:9554-1714244400-1714248000@www.entradainstitute.org
SUMMARY:JILL ORSCHEL: SNOWLAND - Film Re Polygamy Survivor
DESCRIPTION:
URL:https://www.entradainstitute.org/event/jill-orschel-snowland-film-re-polygamy-survivor/
LOCATION:ROBBERS ROOST\, 185 West Main Street\, Torrey\, UT\, 84775\, United States
ATTACH;FMTTYPE=image/png:https://www.entradainstitute.org/wp-content/uploads/2019/08/2019_Entrada_Brochure_Cover.png
ORGANIZER;CN="Don Gomes":MAILTO:sunset@entradainstitute.org
END:VEVENT
BEGIN:VEVENT
DTSTART;TZID=America/Denver:20240421T103000
DTEND;TZID=America/Denver:20240421T113000
DTSTAMP:20260420T215302
CREATED:20240123T034951Z
LAST-MODIFIED:20240312T055531Z
UID:9550-1713695400-1713699000@www.entradainstitute.org
SUMMARY:HAWKWATCH INTERNATIONAL (Meet & Greet the Raptors)
DESCRIPTION:HAWKWATCH INTERNATIONAL: Raptors of the Colorado Plateau
URL:https://www.entradainstitute.org/event/hawkwatch-international-meet-greet-the-raptors/
LOCATION:ROBBERS ROOST\, 185 West Main Street\, Torrey\, UT\, 84775\, United States
ATTACH;FMTTYPE=image/png:https://www.entradainstitute.org/wp-content/uploads/2019/08/2019_Entrada_Brochure_Cover.png
ORGANIZER;CN="Don Gomes":MAILTO:sunset@entradainstitute.org
END:VEVENT
BEGIN:VEVENT
DTSTART;TZID=America/Denver:20240420T190000
DTEND;TZID=America/Denver:20240420T200000
DTSTAMP:20260420T215302
CREATED:20240123T033841Z
LAST-MODIFIED:20240312T055452Z
UID:9548-1713639600-1713643200@www.entradainstitute.org
SUMMARY:HAWKWATCH INTERNATIONAL: MELISSA HALVERSON
DESCRIPTION:HAWKWATCH INTERNATIONAL: Raptors of the Colorado Plateau
URL:https://www.entradainstitute.org/event/hawkwatch-international-melissa-halverson/
LOCATION:ROBBERS ROOST\, 185 West Main Street\, Torrey\, UT\, 84775\, United States
ATTACH;FMTTYPE=image/png:https://www.entradainstitute.org/wp-content/uploads/2019/08/2019_Entrada_Brochure_Cover.png
ORGANIZER;CN="Don Gomes":MAILTO:sunset@entradainstitute.org
END:VEVENT
BEGIN:VEVENT
DTSTART;TZID=America/Denver:20240413T190000
DTEND;TZID=America/Denver:20240413T200000
DTSTAMP:20260420T215302
CREATED:20240312T052440Z
LAST-MODIFIED:20240407T171137Z
UID:9570-1713034800-1713038400@www.entradainstitute.org
SUMMARY:ERIC FEILER: SOIL FOOD WEB
DESCRIPTION:
URL:https://www.entradainstitute.org/event/eric-feiler-soil-food-web/
LOCATION:ROBBERS ROOST\, 185 West Main Street\, Torrey\, UT\, 84775\, United States
ATTACH;FMTTYPE=image/png:https://www.entradainstitute.org/wp-content/uploads/2019/08/2019_Entrada_Brochure_Cover.png
ORGANIZER;CN="Don Gomes":MAILTO:sunset@entradainstitute.org
END:VEVENT
BEGIN:VEVENT
DTSTART;TZID=America/Denver:20240406T190000
DTEND;TZID=America/Denver:20240406T200000
DTSTAMP:20260420T215302
CREATED:20240312T052037Z
LAST-MODIFIED:20240407T171224Z
UID:9568-1712430000-1712433600@www.entradainstitute.org
SUMMARY:KOREAN ART RESIDENCY
DESCRIPTION:
URL:https://www.entradainstitute.org/event/korean-art-residency/
LOCATION:ROBBERS ROOST\, 185 West Main Street\, Torrey\, UT\, 84775\, United States
ATTACH;FMTTYPE=image/png:https://www.entradainstitute.org/wp-content/uploads/2019/08/2019_Entrada_Brochure_Cover.png
ORGANIZER;CN="Don Gomes":MAILTO:sunset@entradainstitute.org
END:VEVENT
BEGIN:VEVENT
DTSTART;TZID=America/Denver:20240404T190000
DTEND;TZID=America/Denver:20240404T200000
DTSTAMP:20260420T215302
CREATED:20240123T033410Z
LAST-MODIFIED:20240222T215315Z
UID:9546-1712257200-1712260800@www.entradainstitute.org
SUMMARY:CLASSIC CONVERSATION: DON GOMES
DESCRIPTION:
URL:https://www.entradainstitute.org/event/classic-conversation-don-gomes/
LOCATION:ROBBERS ROOST\, 185 West Main Street\, Torrey\, UT\, 84775\, United States
ORGANIZER;CN="Don Gomes":MAILTO:sunset@entradainstitute.org
END:VEVENT
BEGIN:VEVENT
DTSTART;TZID=America/Denver:20240329T190000
DTEND;TZID=America/Denver:20240329T200000
DTSTAMP:20260420T215302
CREATED:20240123T033206Z
LAST-MODIFIED:20240318T204000Z
UID:9544-1711738800-1711742400@www.entradainstitute.org
SUMMARY:ANNIE & DAN EASTMOND: HARVEST HOME (Songs and Stories Pre-St. Patty's Day)
DESCRIPTION:
URL:https://www.entradainstitute.org/event/annie-dan-eastmond-harvest-home-songs-and-stories-pre-st-pattys-day/
LOCATION:ROBBERS ROOST\, 185 West Main Street\, Torrey\, UT\, 84775\, United States
ATTACH;FMTTYPE=image/png:https://www.entradainstitute.org/wp-content/uploads/2019/08/2019_Entrada_Brochure_Cover.png
ORGANIZER;CN="Don Gomes":MAILTO:sunset@entradainstitute.org
END:VEVENT
BEGIN:VEVENT
DTSTART;TZID=America/Denver:20240224T190000
DTEND;TZID=America/Denver:20240224T200000
DTSTAMP:20260420T215302
CREATED:20240123T031913Z
LAST-MODIFIED:20240123T032647Z
UID:9536-1708801200-1708804800@www.entradainstitute.org
SUMMARY:KEITH EAGAN: VOLCANICS AND TECTONICS OF THE COLORADO PLATEAU
DESCRIPTION:
URL:https://www.entradainstitute.org/event/volcanics-and-tectonics-of-the-colorado-plateau/
LOCATION:ROBBERS ROOST\, 185 West Main Street\, Torrey\, UT\, 84775\, United States
ATTACH;FMTTYPE=image/png:https://www.entradainstitute.org/wp-content/uploads/2019/08/2019_Entrada_Brochure_Cover.png
ORGANIZER;CN="Don Gomes":MAILTO:sunset@entradainstitute.org
END:VEVENT
BEGIN:VEVENT
DTSTART;TZID=America/Denver:20240201T190000
DTEND;TZID=America/Denver:20240201T200000
DTSTAMP:20260420T215302
CREATED:20240123T031610Z
LAST-MODIFIED:20240123T031610Z
UID:9533-1706814000-1706817600@www.entradainstitute.org
SUMMARY:CLASSIC CONVERSATION: ZAK PODMORE
DESCRIPTION:
URL:https://www.entradainstitute.org/event/classic-conversation-zak-podmore/
LOCATION:ROBBERS ROOST\, 185 West Main Street\, Torrey\, UT\, 84775\, United States
ORGANIZER;CN="Don Gomes":MAILTO:sunset@entradainstitute.org
END:VEVENT
BEGIN:VEVENT
DTSTART;TZID=America/Denver:20240120T190000
DTEND;TZID=America/Denver:20240120T200000
DTSTAMP:20260420T215302
CREATED:20240107T002904Z
LAST-MODIFIED:20240107T223529Z
UID:9520-1705777200-1705780800@www.entradainstitute.org
SUMMARY:The First Escalante Monument – The Park That Almost Was with Author Fred Swanson
DESCRIPTION:
URL:https://www.entradainstitute.org/event/the-first-escalante-monument-the-park-that-almost-was-with-author-fred-swanson/
LOCATION:ROBBERS ROOST\, 185 West Main Street\, Torrey\, UT\, 84775\, United States
ATTACH;FMTTYPE=image/png:https://www.entradainstitute.org/wp-content/uploads/2019/08/2019_Entrada_Brochure_Cover.png
ORGANIZER;CN="Don Gomes":MAILTO:sunset@entradainstitute.org
END:VEVENT
BEGIN:VEVENT
DTSTART;TZID=America/Denver:20240113T190000
DTEND;TZID=America/Denver:20240113T200000
DTSTAMP:20260420T215302
CREATED:20240107T001004Z
LAST-MODIFIED:20240107T215852Z
UID:9517-1705172400-1705176000@www.entradainstitute.org
SUMMARY:BOB GREENSPAN & MAMA T - (Chicago Blues)
DESCRIPTION:
URL:https://www.entradainstitute.org/event/bob-greenspan-mama-t-chicago-blues/
LOCATION:ROBBERS ROOST\, 185 West Main Street\, Torrey\, UT\, 84775\, United States
ATTACH;FMTTYPE=image/png:https://www.entradainstitute.org/wp-content/uploads/2019/08/2019_Entrada_Brochure_Cover.png
ORGANIZER;CN="Don Gomes":MAILTO:sunset@entradainstitute.org
END:VEVENT
BEGIN:VEVENT
DTSTART;TZID=America/Denver:20231111T180000
DTEND;TZID=America/Denver:20231111T193000
DTSTAMP:20260420T215302
CREATED:20231106T200632Z
LAST-MODIFIED:20231106T200632Z
UID:9403-1699725600-1699731000@www.entradainstitute.org
SUMMARY:ENTRADA ANNUAL FUNDRAISER/CELEBRATION OF 2023 SEASON (SLC\, UTAH)
DESCRIPTION:SUPPORT ENTRADA!
URL:https://www.entradainstitute.org/event/entrada-annual-fundraiser-celebration-of-2023-season-slc-utah/
LOCATION:SALTGRASS PRINTMAKERS\, 412 South and 700 West\, SLC\, UT\, 84104\, United States
ORGANIZER;CN="Don Gomes":MAILTO:sunset@entradainstitute.org
END:VEVENT
BEGIN:VEVENT
DTSTART;TZID=America/Denver:20231111T180000
DTEND;TZID=America/Denver:20231111T193000
DTSTAMP:20260420T215302
CREATED:20230626T174510Z
LAST-MODIFIED:20231106T200707Z
UID:9183-1699725600-1699731000@www.entradainstitute.org
SUMMARY:ENTRADA ANNUAL FUNDRAISER/CELEBRATION OF 2023 SEASON (TORREY\, UTAH)
DESCRIPTION:SUPPORT ENTRADA!
URL:https://www.entradainstitute.org/event/entrada-annual-fundraiser-celebration-of-2023-season/
LOCATION:ROBBERS ROOST\, 185 West Main Street\, Torrey\, UT\, 84775\, United States
ORGANIZER;CN="Don Gomes":MAILTO:sunset@entradainstitute.org
END:VEVENT
BEGIN:VEVENT
DTSTART;TZID=America/Denver:20231102T190000
DTEND;TZID=America/Denver:20231102T200000
DTSTAMP:20260420T215302
CREATED:20231029T022837Z
LAST-MODIFIED:20231029T022837Z
UID:9392-1698951600-1698955200@www.entradainstitute.org
SUMMARY:CLASSIC CONVERSATION: LUKE FOWLES
DESCRIPTION:
URL:https://www.entradainstitute.org/event/classic-conversation-luke-fowles/
LOCATION:ROBBERS ROOST\, 185 West Main Street\, Torrey\, UT\, 84775\, United States
ORGANIZER;CN="Don Gomes":MAILTO:sunset@entradainstitute.org
END:VEVENT
BEGIN:VEVENT
DTSTART;TZID=America/Denver:20231020T190000
DTEND;TZID=America/Denver:20231020T200000
DTSTAMP:20260420T215302
CREATED:20230626T174735Z
LAST-MODIFIED:20231019T160217Z
UID:9181-1697828400-1697832000@www.entradainstitute.org
SUMMARY:ARTIST-IN-RESIDENCE: PAUL ATKINSON
DESCRIPTION:NIGHT SKY PHOTOGRAPHY
URL:https://www.entradainstitute.org/event/artist-in-residence-paul-atkinson/
LOCATION:ROBBERS ROOST\, 185 West Main Street\, Torrey\, UT\, 84775\, United States
ORGANIZER;CN="Don Gomes":MAILTO:sunset@entradainstitute.org
END:VEVENT
BEGIN:VEVENT
DTSTART;TZID=America/Denver:20231014T163000
DTEND;TZID=America/Denver:20231014T183000
DTSTAMP:20260420T215302
CREATED:20231011T030607Z
LAST-MODIFIED:20231011T030607Z
UID:9376-1697301000-1697308200@www.entradainstitute.org
SUMMARY:10th ANNUAL ARTS AND THE PARK - MAIN EVENT
DESCRIPTION:
URL:https://www.entradainstitute.org/event/10th-annual-arts-and-the-park-main-event/
LOCATION:COUGAR RIDGE LODGE\, 650 East Cougar Ridge Road\, Torrey\, UT\, 84333
ORGANIZER;CN="Don Gomes":MAILTO:sunset@entradainstitute.org
END:VEVENT
BEGIN:VEVENT
DTSTART;TZID=America/Denver:20231013T190000
DTEND;TZID=America/Denver:20231015T200000
DTSTAMP:20260420T215302
CREATED:20231011T030326Z
LAST-MODIFIED:20231011T030405Z
UID:9373-1697223600-1697400000@www.entradainstitute.org
SUMMARY:10th ANNUAL ARTS AND THE PARK: WORKSHOP with FRANK McEntire
DESCRIPTION:
URL:https://www.entradainstitute.org/event/10th-annual-arts-and-the-park-workshop-with-frank-mcentire/
LOCATION:ROBBERS ROOST\, 185 West Main Street\, Torrey\, UT\, 84775\, United States
ORGANIZER;CN="Don Gomes":MAILTO:sunset@entradainstitute.org
END:VEVENT
BEGIN:VEVENT
DTSTART;TZID=America/Denver:20231013T170000
DTEND;TZID=America/Denver:20231013T190000
DTSTAMP:20260420T215302
CREATED:20231005T025414Z
LAST-MODIFIED:20231005T041937Z
UID:9356-1697216400-1697223600@www.entradainstitute.org
SUMMARY:10th ANNUAL ARTS AND THE PARK - GALLERY STROLL
DESCRIPTION:
URL:https://www.entradainstitute.org/event/10th-annual-arts-and-the-park-gallery-stroll/
LOCATION:SEE EVENT WEBSITE FOR DETAILS
ORGANIZER;CN="Don Gomes":MAILTO:sunset@entradainstitute.org
END:VEVENT
BEGIN:VEVENT
DTSTART;TZID=America/Denver:20231012T190000
DTEND;TZID=America/Denver:20231014T200000
DTSTAMP:20260420T215302
CREATED:20230626T174819Z
LAST-MODIFIED:20231011T030057Z
UID:9179-1697137200-1697313600@www.entradainstitute.org
SUMMARY:10th ANNUAL ARTS AND THE PARK: WORKSHOP with HEIDI DARLEY
DESCRIPTION:
URL:https://www.entradainstitute.org/event/10th-annual-arts-and-the-park-workshop-with-heidi-darley/
LOCATION:ROBBERS ROOST\, 185 West Main Street\, Torrey\, UT\, 84775\, United States
ORGANIZER;CN="Don Gomes":MAILTO:sunset@entradainstitute.org
END:VEVENT
BEGIN:VEVENT
DTSTART;TZID=America/Denver:20231007T190000
DTEND;TZID=America/Denver:20231007T200000
DTSTAMP:20260420T215302
CREATED:20230626T174855Z
LAST-MODIFIED:20231004T150745Z
UID:9177-1696705200-1696708800@www.entradainstitute.org
SUMMARY:ERIC ELIASON\, author
DESCRIPTION:
URL:https://www.entradainstitute.org/event/eric-eliason-author/
LOCATION:ROBBERS ROOST\, 185 West Main Street\, Torrey\, UT\, 84775\, United States
ORGANIZER;CN="Don Gomes":MAILTO:sunset@entradainstitute.org
END:VEVENT
BEGIN:VEVENT
DTSTART;TZID=America/Denver:20231006T190000
DTEND;TZID=America/Denver:20231006T200000
DTSTAMP:20260420T215302
CREATED:20230626T175021Z
LAST-MODIFIED:20231004T150933Z
UID:9175-1696618800-1696622400@www.entradainstitute.org
SUMMARY:MORGAN SJOGREN\, author
DESCRIPTION:
URL:https://www.entradainstitute.org/event/morgan-sjogren-author/
LOCATION:ROBBERS ROOST\, 185 West Main Street\, Torrey\, UT\, 84775\, United States
ORGANIZER;CN="Don Gomes":MAILTO:sunset@entradainstitute.org
END:VEVENT
BEGIN:VEVENT
DTSTART;TZID=America/Denver:20231005T190000
DTEND;TZID=America/Denver:20231005T200000
DTSTAMP:20260420T215302
CREATED:20230626T175119Z
LAST-MODIFIED:20230930T163851Z
UID:9173-1696532400-1696536000@www.entradainstitute.org
SUMMARY:CLASSIC CONVERSATION: PAUL ROLLY
DESCRIPTION:
URL:https://www.entradainstitute.org/event/classic-conversation-tbd-2/
LOCATION:ROBBERS ROOST\, 185 West Main Street\, Torrey\, UT\, 84775\, United States
ORGANIZER;CN="Don Gomes":MAILTO:sunset@entradainstitute.org
END:VEVENT
BEGIN:VEVENT
DTSTART;TZID=America/Denver:20230930T190000
DTEND;TZID=America/Denver:20230930T200000
DTSTAMP:20260420T215302
CREATED:20230818T184627Z
LAST-MODIFIED:20230818T184627Z
UID:9276-1696100400-1696104000@www.entradainstitute.org
SUMMARY:MARK CHANEY & TWISTED BROTHER (Standards\, Jazz\, Soul & more)
DESCRIPTION:
URL:https://www.entradainstitute.org/event/mark-chaney-twisted-brother-2/
LOCATION:ROBBERS ROOST\, 185 West Main Street\, Torrey\, UT\, 84775\, United States
ORGANIZER;CN="Don Gomes":MAILTO:sunset@entradainstitute.org
END:VEVENT
BEGIN:VEVENT
DTSTART;TZID=America/Denver:20230921T190000
DTEND;TZID=America/Denver:20230921T200000
DTSTAMP:20260420T215302
CREATED:20230818T184717Z
LAST-MODIFIED:20230818T184909Z
UID:9274-1695322800-1695326400@www.entradainstitute.org
SUMMARY:ANDREA ROSS\, (Author)
DESCRIPTION:
URL:https://www.entradainstitute.org/event/andrea-ross-author/
LOCATION:ROBBERS ROOST\, 185 West Main Street\, Torrey\, UT\, 84775\, United States
ORGANIZER;CN="Don Gomes":MAILTO:sunset@entradainstitute.org
END:VEVENT
BEGIN:VEVENT
DTSTART;TZID=America/Denver:20230917T190000
DTEND;TZID=America/Denver:20230917T200000
DTSTAMP:20260420T215302
CREATED:20230626T174615Z
LAST-MODIFIED:20230818T184328Z
UID:9166-1694977200-1694980800@www.entradainstitute.org
SUMMARY:DONALD DAVIS (Storyteller)
DESCRIPTION:
URL:https://www.entradainstitute.org/event/donald-davis-storyteller/
LOCATION:ROBBERS ROOST\, 185 West Main Street\, Torrey\, UT\, 84775\, United States
ORGANIZER;CN="Don Gomes":MAILTO:sunset@entradainstitute.org
END:VEVENT
END:VCALENDAR