BEGIN:VCALENDAR
VERSION:2.0
PRODID:-//Entrada Institute - ECPv6.15.20//NONSGML v1.0//EN
CALSCALE:GREGORIAN
METHOD:PUBLISH
X-WR-CALNAME:Entrada Institute
X-ORIGINAL-URL:https://www.entradainstitute.org
X-WR-CALDESC:Events for Entrada Institute
REFRESH-INTERVAL;VALUE=DURATION:PT1H
X-Robots-Tag:noindex
X-PUBLISHED-TTL:PT1H
BEGIN:VTIMEZONE
TZID:America/Denver
BEGIN:DAYLIGHT
TZOFFSETFROM:-0700
TZOFFSETTO:-0600
TZNAME:MDT
DTSTART:20220313T090000
END:DAYLIGHT
BEGIN:STANDARD
TZOFFSETFROM:-0600
TZOFFSETTO:-0700
TZNAME:MST
DTSTART:20221106T080000
END:STANDARD
BEGIN:DAYLIGHT
TZOFFSETFROM:-0700
TZOFFSETTO:-0600
TZNAME:MDT
DTSTART:20230312T090000
END:DAYLIGHT
BEGIN:STANDARD
TZOFFSETFROM:-0600
TZOFFSETTO:-0700
TZNAME:MST
DTSTART:20231105T080000
END:STANDARD
BEGIN:DAYLIGHT
TZOFFSETFROM:-0700
TZOFFSETTO:-0600
TZNAME:MDT
DTSTART:20240310T090000
END:DAYLIGHT
BEGIN:STANDARD
TZOFFSETFROM:-0600
TZOFFSETTO:-0700
TZNAME:MST
DTSTART:20241103T080000
END:STANDARD
END:VTIMEZONE
BEGIN:VEVENT
DTSTART;TZID=America/Denver:20231007T190000
DTEND;TZID=America/Denver:20231007T200000
DTSTAMP:20260420T193511
CREATED:20230626T174855Z
LAST-MODIFIED:20231004T150745Z
UID:9177-1696705200-1696708800@www.entradainstitute.org
SUMMARY:ERIC ELIASON\, author
DESCRIPTION:
URL:https://www.entradainstitute.org/event/eric-eliason-author/
LOCATION:ROBBERS ROOST\, 185 West Main Street\, Torrey\, UT\, 84775\, United States
ORGANIZER;CN="Don Gomes":MAILTO:sunset@entradainstitute.org
END:VEVENT
BEGIN:VEVENT
DTSTART;TZID=America/Denver:20231006T190000
DTEND;TZID=America/Denver:20231006T200000
DTSTAMP:20260420T193511
CREATED:20230626T175021Z
LAST-MODIFIED:20231004T150933Z
UID:9175-1696618800-1696622400@www.entradainstitute.org
SUMMARY:MORGAN SJOGREN\, author
DESCRIPTION:
URL:https://www.entradainstitute.org/event/morgan-sjogren-author/
LOCATION:ROBBERS ROOST\, 185 West Main Street\, Torrey\, UT\, 84775\, United States
ORGANIZER;CN="Don Gomes":MAILTO:sunset@entradainstitute.org
END:VEVENT
BEGIN:VEVENT
DTSTART;TZID=America/Denver:20231005T190000
DTEND;TZID=America/Denver:20231005T200000
DTSTAMP:20260420T193511
CREATED:20230626T175119Z
LAST-MODIFIED:20230930T163851Z
UID:9173-1696532400-1696536000@www.entradainstitute.org
SUMMARY:CLASSIC CONVERSATION: PAUL ROLLY
DESCRIPTION:
URL:https://www.entradainstitute.org/event/classic-conversation-tbd-2/
LOCATION:ROBBERS ROOST\, 185 West Main Street\, Torrey\, UT\, 84775\, United States
ORGANIZER;CN="Don Gomes":MAILTO:sunset@entradainstitute.org
END:VEVENT
BEGIN:VEVENT
DTSTART;TZID=America/Denver:20230930T190000
DTEND;TZID=America/Denver:20230930T200000
DTSTAMP:20260420T193511
CREATED:20230818T184627Z
LAST-MODIFIED:20230818T184627Z
UID:9276-1696100400-1696104000@www.entradainstitute.org
SUMMARY:MARK CHANEY & TWISTED BROTHER (Standards\, Jazz\, Soul & more)
DESCRIPTION:
URL:https://www.entradainstitute.org/event/mark-chaney-twisted-brother-2/
LOCATION:ROBBERS ROOST\, 185 West Main Street\, Torrey\, UT\, 84775\, United States
ORGANIZER;CN="Don Gomes":MAILTO:sunset@entradainstitute.org
END:VEVENT
BEGIN:VEVENT
DTSTART;TZID=America/Denver:20230921T190000
DTEND;TZID=America/Denver:20230921T200000
DTSTAMP:20260420T193511
CREATED:20230818T184717Z
LAST-MODIFIED:20230818T184909Z
UID:9274-1695322800-1695326400@www.entradainstitute.org
SUMMARY:ANDREA ROSS\, (Author)
DESCRIPTION:
URL:https://www.entradainstitute.org/event/andrea-ross-author/
LOCATION:ROBBERS ROOST\, 185 West Main Street\, Torrey\, UT\, 84775\, United States
ORGANIZER;CN="Don Gomes":MAILTO:sunset@entradainstitute.org
END:VEVENT
BEGIN:VEVENT
DTSTART;TZID=America/Denver:20230917T190000
DTEND;TZID=America/Denver:20230917T200000
DTSTAMP:20260420T193511
CREATED:20230626T174615Z
LAST-MODIFIED:20230818T184328Z
UID:9166-1694977200-1694980800@www.entradainstitute.org
SUMMARY:DONALD DAVIS (Storyteller)
DESCRIPTION:
URL:https://www.entradainstitute.org/event/donald-davis-storyteller/
LOCATION:ROBBERS ROOST\, 185 West Main Street\, Torrey\, UT\, 84775\, United States
ORGANIZER;CN="Don Gomes":MAILTO:sunset@entradainstitute.org
END:VEVENT
BEGIN:VEVENT
DTSTART;TZID=America/Denver:20230917T160000
DTEND;TZID=America/Denver:20230917T170000
DTSTAMP:20260420T193511
CREATED:20230831T190915Z
LAST-MODIFIED:20230831T190915Z
UID:9307-1694966400-1694970000@www.entradainstitute.org
SUMMARY:STORYTELLING WORKSHOP with DONALD DAVIS
DESCRIPTION:
URL:https://www.entradainstitute.org/event/storytelling-workshop-with-donald-davis/
LOCATION:ROBBERS ROOST\, 185 West Main Street\, Torrey\, UT\, 84775\, United States
ORGANIZER;CN="Don Gomes":MAILTO:sunset@entradainstitute.org
END:VEVENT
BEGIN:VEVENT
DTSTART;TZID=America/Denver:20230915T190000
DTEND;TZID=America/Denver:20230916T200000
DTSTAMP:20260420T193511
CREATED:20230626T175353Z
LAST-MODIFIED:20230916T172552Z
UID:9164-1694804400-1694894400@www.entradainstitute.org
SUMMARY:14TH ANNUAL HERITAGE STARFEST
DESCRIPTION:
URL:https://www.entradainstitute.org/event/14th-annual-heritage-starfest/
LOCATION:SEE EVENT WEBSITE FOR DETAILS
ORGANIZER;CN="Don Gomes":MAILTO:sunset@entradainstitute.org
END:VEVENT
BEGIN:VEVENT
DTSTART;TZID=America/Denver:20230910T190000
DTEND;TZID=America/Denver:20230910T200000
DTSTAMP:20260420T193511
CREATED:20230626T175449Z
LAST-MODIFIED:20230818T184231Z
UID:9162-1694372400-1694376000@www.entradainstitute.org
SUMMARY:JOHN FLANDERS DUO (Jazz\, Pop)
DESCRIPTION:
URL:https://www.entradainstitute.org/event/john-flanders-duo-jazz-pop/
LOCATION:ROBBERS ROOST\, 185 West Main Street\, Torrey\, UT\, 84775\, United States
ORGANIZER;CN="Don Gomes":MAILTO:sunset@entradainstitute.org
END:VEVENT
BEGIN:VEVENT
DTSTART;TZID=America/Denver:20230909T190000
DTEND;TZID=America/Denver:20230909T200000
DTSTAMP:20260420T193511
CREATED:20230626T175533Z
LAST-MODIFIED:20230818T184138Z
UID:9160-1694286000-1694289600@www.entradainstitute.org
SUMMARY:ANGELA GUERRA - CRNP (Astronomy)
DESCRIPTION:
URL:https://www.entradainstitute.org/event/angela-guerra-crnp-astronomy/
LOCATION:ROBBERS ROOST\, 185 West Main Street\, Torrey\, UT\, 84775\, United States
ORGANIZER;CN="Don Gomes":MAILTO:sunset@entradainstitute.org
END:VEVENT
BEGIN:VEVENT
DTSTART;TZID=America/Denver:20230907T190000
DTEND;TZID=America/Denver:20230907T200000
DTSTAMP:20260420T193511
CREATED:20230626T175614Z
LAST-MODIFIED:20230818T184037Z
UID:9158-1694113200-1694116800@www.entradainstitute.org
SUMMARY:CLASSIC CONVERSATION: PAUL PACE
DESCRIPTION:
URL:https://www.entradainstitute.org/event/classic-conversation-paul-pace/
LOCATION:ROBBERS ROOST\, 185 West Main Street\, Torrey\, UT\, 84775\, United States
ORGANIZER;CN="Don Gomes":MAILTO:sunset@entradainstitute.org
END:VEVENT
BEGIN:VEVENT
DTSTART;TZID=America/Denver:20230902T190000
DTEND;TZID=America/Denver:20230902T200000
DTSTAMP:20260420T193511
CREATED:20230626T175721Z
LAST-MODIFIED:20230818T183856Z
UID:9156-1693681200-1693684800@www.entradainstitute.org
SUMMARY:STILL SWINGIN' BAND (Acoustic "Little Big Band")
DESCRIPTION:
URL:https://www.entradainstitute.org/event/still-swingin-band-acoustic-little-big-band/
LOCATION:ROBBERS ROOST\, 185 West Main Street\, Torrey\, UT\, 84775\, United States
ORGANIZER;CN="Don Gomes":MAILTO:sunset@entradainstitute.org
END:VEVENT
BEGIN:VEVENT
DTSTART;TZID=America/Denver:20230901T190000
DTEND;TZID=America/Denver:20230901T200000
DTSTAMP:20260420T193511
CREATED:20230626T175846Z
LAST-MODIFIED:20230818T183706Z
UID:9154-1693594800-1693598400@www.entradainstitute.org
SUMMARY:ESKELTONES (Original Folk Tradition)
DESCRIPTION:
URL:https://www.entradainstitute.org/event/eskeltones-original-folk-tradition/
LOCATION:ROBBERS ROOST\, 185 West Main Street\, Torrey\, UT\, 84775\, United States
ORGANIZER;CN="Don Gomes":MAILTO:sunset@entradainstitute.org
END:VEVENT
BEGIN:VEVENT
DTSTART;TZID=America/Denver:20230826T180000
DTEND;TZID=America/Denver:20230826T213000
DTSTAMP:20260420T193511
CREATED:20230626T174331Z
LAST-MODIFIED:20230720T213948Z
UID:9149-1693072800-1693085400@www.entradainstitute.org
SUMMARY:COWBOY WAY FESTIVAL 2023
DESCRIPTION:
URL:https://www.entradainstitute.org/event/cowboy-way-festival-2023/
LOCATION:ROBBERS ROOST\, 185 West Main Street\, Torrey\, UT\, 84775\, United States
ORGANIZER;CN="Don Gomes":MAILTO:sunset@entradainstitute.org
END:VEVENT
BEGIN:VEVENT
DTSTART;TZID=America/Denver:20230820T190000
DTEND;TZID=America/Denver:20230820T200000
DTSTAMP:20260420T193511
CREATED:20230625T035325Z
LAST-MODIFIED:20230720T215330Z
UID:9144-1692558000-1692561600@www.entradainstitute.org
SUMMARY:ARTIST-IN-RESIDENCE: KATHY HODGE
DESCRIPTION:Oil Painting & Charcoal Drawing
URL:https://www.entradainstitute.org/event/artist-in-residence-kathy-hodge/
LOCATION:ROBBERS ROOST\, 185 West Main Street\, Torrey\, UT\, 84775\, United States
ORGANIZER;CN="Don Gomes":MAILTO:sunset@entradainstitute.org
END:VEVENT
BEGIN:VEVENT
DTSTART;TZID=America/Denver:20230819T190000
DTEND;TZID=America/Denver:20230819T200000
DTSTAMP:20260420T193511
CREATED:20230625T035048Z
LAST-MODIFIED:20230720T214631Z
UID:9142-1692471600-1692475200@www.entradainstitute.org
SUMMARY:KATE MACLEOD
DESCRIPTION:
URL:https://www.entradainstitute.org/event/kate-macleod-2/
LOCATION:ROBBERS ROOST\, 185 West Main Street\, Torrey\, UT\, 84775\, United States
ORGANIZER;CN="Don Gomes":MAILTO:sunset@entradainstitute.org
END:VEVENT
BEGIN:VEVENT
DTSTART;TZID=America/Denver:20230812T200000
DTEND;TZID=America/Denver:20230812T210000
DTSTAMP:20260420T193511
CREATED:20230625T181014Z
LAST-MODIFIED:20230805T174255Z
UID:9139-1691870400-1691874000@www.entradainstitute.org
SUMMARY:UTAH SYMPHONY at TEASDALE PARK
DESCRIPTION:
URL:https://www.entradainstitute.org/event/utah-symphony-at-teasdale-park/
LOCATION:TEASDALE PARK\, 120 N. Teasdale Road\, Teasdale\, UT\, 84773\, United States
ORGANIZER;CN="Don Gomes":MAILTO:sunset@entradainstitute.org
END:VEVENT
BEGIN:VEVENT
DTSTART;TZID=America/Denver:20230812T170000
DTEND;TZID=America/Denver:20230812T174500
DTSTAMP:20260420T193511
CREATED:20230805T173522Z
LAST-MODIFIED:20230805T173914Z
UID:9264-1691859600-1691862300@www.entradainstitute.org
SUMMARY:UTAH SYMPHONY WORKSHOPS
DESCRIPTION:
URL:https://www.entradainstitute.org/event/utah-symphony-workshops/
LOCATION:ROBBERS ROOST\, 185 West Main Street\, Torrey\, UT\, 84775\, United States
ORGANIZER;CN="Don Gomes":MAILTO:sunset@entradainstitute.org
END:VEVENT
BEGIN:VEVENT
DTSTART;TZID=America/Denver:20230812T170000
DTEND;TZID=America/Denver:20230812T174500
DTSTAMP:20260420T193511
CREATED:20230805T173522Z
LAST-MODIFIED:20230805T173914Z
UID:9264-1691859600-1691862300@www.entradainstitute.org
SUMMARY:UTAH SYMPHONY WORKSHOPS
DESCRIPTION:
URL:https://www.entradainstitute.org/event/utah-symphony-workshops/
LOCATION:ROBBERS ROOST\, 185 West Main Street\, Torrey\, UT\, 84775\, United States
ORGANIZER;CN="Don Gomes":MAILTO:sunset@entradainstitute.org
END:VEVENT
BEGIN:VEVENT
DTSTART;TZID=America/Denver:20230812T170000
DTEND;TZID=America/Denver:20230812T174500
DTSTAMP:20260420T193511
CREATED:20230805T173522Z
LAST-MODIFIED:20230805T173914Z
UID:9264-1691859600-1691862300@www.entradainstitute.org
SUMMARY:UTAH SYMPHONY WORKSHOPS
DESCRIPTION:
URL:https://www.entradainstitute.org/event/utah-symphony-workshops/
LOCATION:ROBBERS ROOST\, 185 West Main Street\, Torrey\, UT\, 84775\, United States
ORGANIZER;CN="Don Gomes":MAILTO:sunset@entradainstitute.org
END:VEVENT
BEGIN:VEVENT
DTSTART;TZID=America/Denver:20230805T190000
DTEND;TZID=America/Denver:20230805T200000
DTSTAMP:20260420T193511
CREATED:20230712T185718Z
LAST-MODIFIED:20230720T213340Z
UID:9238-1691262000-1691265600@www.entradainstitute.org
SUMMARY:GEEZER BAND
DESCRIPTION:
URL:https://www.entradainstitute.org/event/geezer-band/
LOCATION:ROBBERS ROOST\, 185 West Main Street\, Torrey\, UT\, 84775\, United States
ORGANIZER;CN="Don Gomes":MAILTO:sunset@entradainstitute.org
END:VEVENT
BEGIN:VEVENT
DTSTART;TZID=America/Denver:20230804T190000
DTEND;TZID=America/Denver:20230804T200000
DTSTAMP:20260420T193511
CREATED:20230625T180924Z
LAST-MODIFIED:20230720T213858Z
UID:9137-1691175600-1691179200@www.entradainstitute.org
SUMMARY:RACHEL POBER - CRNP
DESCRIPTION:
URL:https://www.entradainstitute.org/event/rachel-pober-crnp/
LOCATION:ROBBERS ROOST\, 185 West Main Street\, Torrey\, UT\, 84775\, United States
ORGANIZER;CN="Don Gomes":MAILTO:sunset@entradainstitute.org
END:VEVENT
BEGIN:VEVENT
DTSTART;TZID=America/Denver:20230803T190000
DTEND;TZID=America/Denver:20230803T200000
DTSTAMP:20260420T193511
CREATED:20230625T180644Z
LAST-MODIFIED:20230720T214038Z
UID:9135-1691089200-1691092800@www.entradainstitute.org
SUMMARY:CLASSIC CONVERSATION: PHILLIP WINTERS
DESCRIPTION:
URL:https://www.entradainstitute.org/event/classic-conversation-phillip-winters/
LOCATION:ROBBERS ROOST\, 185 West Main Street\, Torrey\, UT\, 84775\, United States
ORGANIZER;CN="Don Gomes":MAILTO:sunset@entradainstitute.org
END:VEVENT
BEGIN:VEVENT
DTSTART;TZID=America/Denver:20230721T190000
DTEND;TZID=America/Denver:20230722T170000
DTSTAMP:20260420T193511
CREATED:20230412T233847Z
LAST-MODIFIED:20230625T183137Z
UID:8965-1689966000-1690045200@www.entradainstitute.org
SUMMARY:2023 BICKNELL INTERNATIONAL FILM FESTIVAL
DESCRIPTION:
URL:https://www.entradainstitute.org/event/2023-bicknell-international-film-festival/
LOCATION:BICKNELL THEATER\, 11 East Main Street\, Bicknell\, UT\, 84715
ORGANIZER;CN="Don Gomes":MAILTO:sunset@entradainstitute.org
END:VEVENT
BEGIN:VEVENT
DTSTART;TZID=America/Denver:20230715T190000
DTEND;TZID=America/Denver:20230715T200000
DTSTAMP:20260420T193511
CREATED:20230412T233315Z
LAST-MODIFIED:20230625T182714Z
UID:8963-1689447600-1689451200@www.entradainstitute.org
SUMMARY:"MOUNTAIN MEADOW" by DEBORA THREEDY
DESCRIPTION:
URL:https://www.entradainstitute.org/event/mountain-meadow-by-debora-threedy/
LOCATION:ROBBERS ROOST\, 185 West Main Street\, Torrey\, UT\, 84775\, United States
ORGANIZER;CN="Don Gomes":MAILTO:sunset@entradainstitute.org
END:VEVENT
BEGIN:VEVENT
DTSTART;TZID=America/Denver:20230714T190000
DTEND;TZID=America/Denver:20230714T200000
DTSTAMP:20260420T193511
CREATED:20230412T232625Z
LAST-MODIFIED:20230625T182631Z
UID:8959-1689361200-1689364800@www.entradainstitute.org
SUMMARY:DAWN HOUSE: "THE TRAIL TO POVERTY FLAT"
DESCRIPTION:
URL:https://www.entradainstitute.org/event/dawn-house-the-trail-to-poverty-flat/
LOCATION:ROBBERS ROOST\, 185 West Main Street\, Torrey\, UT\, 84775\, United States
ORGANIZER;CN="Don Gomes":MAILTO:sunset@entradainstitute.org
END:VEVENT
BEGIN:VEVENT
DTSTART;TZID=America/Denver:20230708T170000
DTEND;TZID=America/Denver:20230708T220000
DTSTAMP:20260420T193511
CREATED:20230412T232122Z
LAST-MODIFIED:20230626T180049Z
UID:8957-1688835600-1688853600@www.entradainstitute.org
SUMMARY:2023 BLUES & VIEWS FESTIVAL
DESCRIPTION:2023 BLUES & VIEWS FESTIVAL
URL:https://www.entradainstitute.org/event/2023-blues-views-festival/
LOCATION:ROBBERS ROOST\, 185 West Main Street\, Torrey\, UT\, 84775\, United States
ORGANIZER;CN="Don Gomes":MAILTO:sunset@entradainstitute.org
END:VEVENT
BEGIN:VEVENT
DTSTART;TZID=America/Denver:20230706T190000
DTEND;TZID=America/Denver:20230706T200000
DTSTAMP:20260420T193511
CREATED:20230412T231727Z
LAST-MODIFIED:20230625T183433Z
UID:8954-1688670000-1688673600@www.entradainstitute.org
SUMMARY:CLASSIC CONVERSATIONS: STEPHEN TRIMBLE
DESCRIPTION:CLASSIC CONVERSATIONS: STEPHEN TRIMBLE
URL:https://www.entradainstitute.org/event/classic-conversations-stephen-trimble/
LOCATION:ROBBERS ROOST\, 185 West Main Street\, Torrey\, UT\, 84775\, United States
ORGANIZER;CN="Don Gomes":MAILTO:sunset@entradainstitute.org
END:VEVENT
BEGIN:VEVENT
DTSTART;TZID=America/Denver:20230702T190000
DTEND;TZID=America/Denver:20230702T200000
DTSTAMP:20260420T193511
CREATED:20230412T231422Z
LAST-MODIFIED:20230625T182441Z
UID:8952-1688324400-1688328000@www.entradainstitute.org
SUMMARY:QUICKFIRE LITE: CLASSIC COUNTRY & ROCK
DESCRIPTION:
URL:https://www.entradainstitute.org/event/quickfire-lite-classic-country-rock/
LOCATION:ROBBERS ROOST\, 185 West Main Street\, Torrey\, UT\, 84775\, United States
ORGANIZER;CN="Don Gomes":MAILTO:sunset@entradainstitute.org
END:VEVENT
BEGIN:VEVENT
DTSTART;TZID=America/Denver:20230701T190000
DTEND;TZID=America/Denver:20230701T200000
DTSTAMP:20260420T193511
CREATED:20230412T231135Z
LAST-MODIFIED:20230625T182320Z
UID:8950-1688238000-1688241600@www.entradainstitute.org
SUMMARY:STEVE & WILL
DESCRIPTION:
URL:https://www.entradainstitute.org/event/steve-will-2/
LOCATION:ROBBERS ROOST\, 185 West Main Street\, Torrey\, UT\, 84775\, United States
ORGANIZER;CN="Don Gomes":MAILTO:sunset@entradainstitute.org
END:VEVENT
END:VCALENDAR