BEGIN:VCALENDAR
VERSION:2.0
PRODID:-//Entrada Institute - ECPv6.15.20//NONSGML v1.0//EN
CALSCALE:GREGORIAN
METHOD:PUBLISH
X-WR-CALNAME:Entrada Institute
X-ORIGINAL-URL:https://www.entradainstitute.org
X-WR-CALDESC:Events for Entrada Institute
REFRESH-INTERVAL;VALUE=DURATION:PT1H
X-Robots-Tag:noindex
X-PUBLISHED-TTL:PT1H
BEGIN:VTIMEZONE
TZID:America/Denver
BEGIN:DAYLIGHT
TZOFFSETFROM:-0700
TZOFFSETTO:-0600
TZNAME:MDT
DTSTART:20210314T090000
END:DAYLIGHT
BEGIN:STANDARD
TZOFFSETFROM:-0600
TZOFFSETTO:-0700
TZNAME:MST
DTSTART:20211107T080000
END:STANDARD
BEGIN:DAYLIGHT
TZOFFSETFROM:-0700
TZOFFSETTO:-0600
TZNAME:MDT
DTSTART:20220313T090000
END:DAYLIGHT
BEGIN:STANDARD
TZOFFSETFROM:-0600
TZOFFSETTO:-0700
TZNAME:MST
DTSTART:20221106T080000
END:STANDARD
BEGIN:DAYLIGHT
TZOFFSETFROM:-0700
TZOFFSETTO:-0600
TZNAME:MDT
DTSTART:20230312T090000
END:DAYLIGHT
BEGIN:STANDARD
TZOFFSETFROM:-0600
TZOFFSETTO:-0700
TZNAME:MST
DTSTART:20231105T080000
END:STANDARD
BEGIN:DAYLIGHT
TZOFFSETFROM:-0700
TZOFFSETTO:-0600
TZNAME:MDT
DTSTART:20240310T090000
END:DAYLIGHT
BEGIN:STANDARD
TZOFFSETFROM:-0600
TZOFFSETTO:-0700
TZNAME:MST
DTSTART:20241103T080000
END:STANDARD
END:VTIMEZONE
BEGIN:VEVENT
DTSTART;TZID=America/Denver:20230602T190000
DTEND;TZID=America/Denver:20230607T200000
DTSTAMP:20260421T003349
CREATED:20230411T193616Z
LAST-MODIFIED:20230411T194049Z
UID:8924-1685732400-1686168000@www.entradainstitute.org
SUMMARY:2023 TORREY CHAMBER MUSIC FESTIVAL
DESCRIPTION:
URL:https://www.entradainstitute.org/event/2023-torrey-chamber-music-festival/
LOCATION:SEE EVENT WEBSITE FOR DETAILS
ATTACH;FMTTYPE=image/png:https://www.entradainstitute.org/wp-content/uploads/2019/08/2019_Entrada_Brochure_Cover.png
END:VEVENT
BEGIN:VEVENT
DTSTART;TZID=America/Denver:20230601T190000
DTEND;TZID=America/Denver:20230601T200000
DTSTAMP:20260421T003349
CREATED:20230411T195009Z
LAST-MODIFIED:20230411T195009Z
UID:8928-1685646000-1685649600@www.entradainstitute.org
SUMMARY:CLASSIC CONVERSATIONS: LAYNE JONES
DESCRIPTION:CLASSIC CONVERSATIONS: LAYNE JONES
URL:https://www.entradainstitute.org/event/classic-conversations-layne-jones/
LOCATION:ROBBERS ROOST\, 185 West Main Street\, Torrey\, UT\, 84775\, United States
ATTACH;FMTTYPE=image/png:https://www.entradainstitute.org/wp-content/uploads/2019/08/2019_Entrada_Brochure_Cover.png
ORGANIZER;CN="Don Gomes":MAILTO:sunset@entradainstitute.org
END:VEVENT
BEGIN:VEVENT
DTSTART;TZID=America/Denver:20230528T190000
DTEND;TZID=America/Denver:20230528T200000
DTSTAMP:20260421T003349
CREATED:20230327T221249Z
LAST-MODIFIED:20230327T221249Z
UID:8896-1685300400-1685304000@www.entradainstitute.org
SUMMARY:KEVIN HOLDSWORTH\, AUTHOR: RED STONE HEART
DESCRIPTION:KEVIN HOLDSWORTH\, AUTHOR: RED STONE HEART
URL:https://www.entradainstitute.org/event/kevin-holdsworth-author-red-stone-heart/
LOCATION:ROBBERS ROOST\, 185 West Main Street\, Torrey\, UT\, 84775\, United States
ATTACH;FMTTYPE=image/png:https://www.entradainstitute.org/wp-content/uploads/2019/08/2019_Entrada_Brochure_Cover.png
ORGANIZER;CN="Don Gomes":MAILTO:sunset@entradainstitute.org
END:VEVENT
BEGIN:VEVENT
DTSTART;TZID=America/Denver:20230526T190000
DTEND;TZID=America/Denver:20230526T200000
DTSTAMP:20260421T003349
CREATED:20230327T215818Z
LAST-MODIFIED:20230327T215818Z
UID:8894-1685127600-1685131200@www.entradainstitute.org
SUMMARY:GRIT 'N GRACE
DESCRIPTION:GRIT ‘N GRACE – Music Duo\, Folk\, Country\, and more!
URL:https://www.entradainstitute.org/event/grit-n-grace-2/
LOCATION:ROBBERS ROOST\, 185 West Main Street\, Torrey\, UT\, 84775\, United States
ATTACH;FMTTYPE=image/png:https://www.entradainstitute.org/wp-content/uploads/2019/08/2019_Entrada_Brochure_Cover.png
ORGANIZER;CN="Don Gomes":MAILTO:sunset@entradainstitute.org
END:VEVENT
BEGIN:VEVENT
DTSTART;TZID=America/Denver:20230521T090000
DTEND;TZID=America/Denver:20230521T103000
DTSTAMP:20260421T003349
CREATED:20230509T070523Z
LAST-MODIFIED:20230509T070523Z
UID:9007-1684659600-1684665000@www.entradainstitute.org
SUMMARY:WFTL PUBLIC EVENT: CLOSING PANEL
DESCRIPTION:
URL:https://www.entradainstitute.org/event/wftl-public-event-closing-panel/
LOCATION:ROBBERS ROOST\, 185 West Main Street\, Torrey\, UT\, 84775\, United States
ATTACH;FMTTYPE=image/png:https://www.entradainstitute.org/wp-content/uploads/2019/08/2019_Entrada_Brochure_Cover.png
ORGANIZER;CN="Don Gomes":MAILTO:sunset@entradainstitute.org
END:VEVENT
BEGIN:VEVENT
DTSTART;TZID=America/Denver:20230520T190000
DTEND;TZID=America/Denver:20230520T200000
DTSTAMP:20260421T003349
CREATED:20230509T070222Z
LAST-MODIFIED:20230509T070222Z
UID:9005-1684609200-1684612800@www.entradainstitute.org
SUMMARY:WFTL PUBLIC EVENT: BRANDON GRIGGS
DESCRIPTION:
URL:https://www.entradainstitute.org/event/wftl-public-event-brandon-griggs/
LOCATION:ROBBERS ROOST\, 185 West Main Street\, Torrey\, UT\, 84775\, United States
ATTACH;FMTTYPE=image/png:https://www.entradainstitute.org/wp-content/uploads/2019/08/2019_Entrada_Brochure_Cover.png
ORGANIZER;CN="Don Gomes":MAILTO:sunset@entradainstitute.org
END:VEVENT
BEGIN:VEVENT
DTSTART;TZID=America/Denver:20230519T190000
DTEND;TZID=America/Denver:20230519T200000
DTSTAMP:20260421T003349
CREATED:20230509T065928Z
LAST-MODIFIED:20230509T065928Z
UID:9003-1684522800-1684526400@www.entradainstitute.org
SUMMARY:WFTL PUBLIC EVENT: DAWN KISH & ZAK PODMORE
DESCRIPTION:
URL:https://www.entradainstitute.org/event/wftl-public-event-dawn-kish-zak-podmore/
LOCATION:ROBBERS ROOST\, 185 West Main Street\, Torrey\, UT\, 84775\, United States
ATTACH;FMTTYPE=image/png:https://www.entradainstitute.org/wp-content/uploads/2019/08/2019_Entrada_Brochure_Cover.png
ORGANIZER;CN="Don Gomes":MAILTO:sunset@entradainstitute.org
END:VEVENT
BEGIN:VEVENT
DTSTART;TZID=America/Denver:20230518T190000
DTEND;TZID=America/Denver:20230518T200000
DTSTAMP:20260421T003349
CREATED:20230509T065606Z
LAST-MODIFIED:20230509T065606Z
UID:9001-1684436400-1684440000@www.entradainstitute.org
SUMMARY:WFTL PUBLIC EVENT: SARA ZARR
DESCRIPTION:
URL:https://www.entradainstitute.org/event/wftl-public-event-sara-zarr/
LOCATION:ROBBERS ROOST\, 185 West Main Street\, Torrey\, UT\, 84775\, United States
ATTACH;FMTTYPE=image/png:https://www.entradainstitute.org/wp-content/uploads/2019/08/2019_Entrada_Brochure_Cover.png
ORGANIZER;CN="Don Gomes":MAILTO:sunset@entradainstitute.org
END:VEVENT
BEGIN:VEVENT
DTSTART;TZID=America/Denver:20230518T120000
DTEND;TZID=America/Denver:20230521T120000
DTSTAMP:20260421T003349
CREATED:20230331T234713Z
LAST-MODIFIED:20230505T170019Z
UID:8903-1684411200-1684670400@www.entradainstitute.org
SUMMARY:WRITING FROM THE LAND WORKSHOP
DESCRIPTION:The Entrada Institute presents Writing from the Land Workshop\nJoin us in beautiful Torrey\, Utah from May 18-21. \n\nOpen to writers of all levels of experience and genres\nIncludes instruction from faculty\, readings\, manuscript consultations\, and panel discussions\nInspire your creativity in a friendly\, supportive environment
URL:https://www.entradainstitute.org/event/writing-from-the-land-workshop/
LOCATION:ROBBERS ROOST\, 185 West Main Street\, Torrey\, UT\, 84775\, United States
ATTACH;FMTTYPE=image/png:https://www.entradainstitute.org/wp-content/uploads/2019/08/2019_Entrada_Brochure_Cover.png
END:VEVENT
BEGIN:VEVENT
DTSTART;TZID=America/Denver:20230513T190000
DTEND;TZID=America/Denver:20230513T200000
DTSTAMP:20260421T003349
CREATED:20230327T215022Z
LAST-MODIFIED:20230327T221425Z
UID:8892-1684004400-1684008000@www.entradainstitute.org
SUMMARY:Dr. SHANNON RUPERT: MARS DESERT RESEARCH STATION
DESCRIPTION:MARS DESERT RESEARCH STATION
URL:https://www.entradainstitute.org/event/mars-desert-research-station/
LOCATION:ROBBERS ROOST\, 185 West Main Street\, Torrey\, UT\, 84775\, United States
ATTACH;FMTTYPE=image/png:https://www.entradainstitute.org/wp-content/uploads/2019/08/2019_Entrada_Brochure_Cover.png
ORGANIZER;CN="Don Gomes":MAILTO:sunset@entradainstitute.org
END:VEVENT
BEGIN:VEVENT
DTSTART;TZID=America/Denver:20230511T190000
DTEND;TZID=America/Denver:20230511T200000
DTSTAMP:20260421T003349
CREATED:20230327T214520Z
LAST-MODIFIED:20230327T214520Z
UID:8890-1683831600-1683835200@www.entradainstitute.org
SUMMARY:CLASSIC CONVERSATIONS: BONNIE MANGOLD
DESCRIPTION:CLASSIC CONVERSATIONS: BONNIE MANGOLD
URL:https://www.entradainstitute.org/event/classic-conversations-bonnie-mangold/
LOCATION:ROBBERS ROOST\, 185 West Main Street\, Torrey\, UT\, 84775\, United States
ATTACH;FMTTYPE=image/png:https://www.entradainstitute.org/wp-content/uploads/2019/08/2019_Entrada_Brochure_Cover.png
ORGANIZER;CN="Don Gomes":MAILTO:sunset@entradainstitute.org
END:VEVENT
BEGIN:VEVENT
DTSTART;TZID=America/Denver:20230506T190000
DTEND;TZID=America/Denver:20230506T200000
DTSTAMP:20260421T003349
CREATED:20230327T214023Z
LAST-MODIFIED:20230327T221534Z
UID:8888-1683399600-1683403200@www.entradainstitute.org
SUMMARY:ELIZABETH NAGENGAST-STEVENS\, PhD: FREMONT INDIAN STATE PARK
DESCRIPTION:“The Pitfalls & Pithouses of the 1980’s I-70 Project at Fremont Indian State Park”
URL:https://www.entradainstitute.org/event/fremont-indian-state-park/
LOCATION:ROBBERS ROOST\, 185 West Main Street\, Torrey\, UT\, 84775\, United States
ATTACH;FMTTYPE=image/png:https://www.entradainstitute.org/wp-content/uploads/2019/08/2019_Entrada_Brochure_Cover.png
ORGANIZER;CN="Don Gomes":MAILTO:sunset@entradainstitute.org
END:VEVENT
BEGIN:VEVENT
DTSTART;TZID=America/Denver:20230504T190000
DTEND;TZID=America/Denver:20230504T200000
DTSTAMP:20260421T003349
CREATED:20230417T184304Z
LAST-MODIFIED:20230417T184332Z
UID:8970-1683226800-1683230400@www.entradainstitute.org
SUMMARY:NATIONAL DAY OF PRAYER EVENT
DESCRIPTION:Entrada is part of the Torrey Interfaith Council
URL:https://www.entradainstitute.org/event/national-day-of-prayer-event/
LOCATION:BICKNELL COMMUNITY CENTER\, 605 South 350 East\, Bicknell\, UT\, 84715\, United States
ATTACH;FMTTYPE=image/png:https://www.entradainstitute.org/wp-content/uploads/2019/08/2019_Entrada_Brochure_Cover.png
ORGANIZER;CN="Don Gomes":MAILTO:sunset@entradainstitute.org
END:VEVENT
BEGIN:VEVENT
DTSTART;TZID=America/Denver:20230422T190000
DTEND;TZID=America/Denver:20230422T200000
DTSTAMP:20260421T003349
CREATED:20221121T232140Z
LAST-MODIFIED:20230105T181837Z
UID:8799-1682190000-1682193600@www.entradainstitute.org
SUMMARY:ARTIST-IN-RESIDENCE: AMY GROGAN
DESCRIPTION:AMY GROGAN: Printmaking-  Woodblock Prints
URL:https://www.entradainstitute.org/event/artist-in-residence-amy-grogan/
LOCATION:ROBBERS ROOST\, 185 West Main Street\, Torrey\, UT\, 84775\, United States
ATTACH;FMTTYPE=image/png:https://www.entradainstitute.org/wp-content/uploads/2019/08/2019_Entrada_Brochure_Cover.png
ORGANIZER;CN="Don Gomes":MAILTO:sunset@entradainstitute.org
END:VEVENT
BEGIN:VEVENT
DTSTART;TZID=America/Denver:20230415T210000
DTEND;TZID=America/Denver:20230415T223000
DTSTAMP:20260421T003349
CREATED:20230406T201340Z
LAST-MODIFIED:20230412T025540Z
UID:8905-1681592400-1681597800@www.entradainstitute.org
SUMMARY:STAR PARTY & DARK SKY MONITORING
DESCRIPTION:
URL:https://www.entradainstitute.org/event/star-party-dark-sky-monitoring/
LOCATION:South 2nd St. East and East Rustler St.\, South 2nd St. East and East Rustler St.\, Teasdale\, UT\, 84773\, United States
ATTACH;FMTTYPE=image/png:https://www.entradainstitute.org/wp-content/uploads/2019/08/2019_Entrada_Brochure_Cover.png
ORGANIZER;CN="Don Gomes":MAILTO:sunset@entradainstitute.org
END:VEVENT
BEGIN:VEVENT
DTSTART;TZID=America/Denver:20230415T103000
DTEND;TZID=America/Denver:20230415T113000
DTSTAMP:20260421T003349
CREATED:20230105T182047Z
LAST-MODIFIED:20230105T182856Z
UID:8857-1681554600-1681558200@www.entradainstitute.org
SUMMARY:HAWKWATCH INTERNATIONAL
DESCRIPTION:HAWKWATCH INTERNATIONAL: Raptors of the Colorado Plateau
URL:https://www.entradainstitute.org/event/hawkwatch-international-2-2/
LOCATION:ROBBERS ROOST\, 185 West Main Street\, Torrey\, UT\, 84775\, United States
ATTACH;FMTTYPE=image/png:https://www.entradainstitute.org/wp-content/uploads/2019/08/2019_Entrada_Brochure_Cover.png
ORGANIZER;CN="Don Gomes":MAILTO:sunset@entradainstitute.org
END:VEVENT
BEGIN:VEVENT
DTSTART;TZID=America/Denver:20230415T103000
DTEND;TZID=America/Denver:20230415T113000
DTSTAMP:20260421T003349
CREATED:20221121T231401Z
LAST-MODIFIED:20230105T183902Z
UID:8796-1681554600-1681558200@www.entradainstitute.org
SUMMARY:HAWKWATCH INTERNATIONAL
DESCRIPTION:HAWKWATCH INTERNATIONAL: Raptors of the Colorado Plateau
URL:https://www.entradainstitute.org/event/hawkwatch-international/
LOCATION:ROBBERS ROOST\, 185 West Main Street\, Torrey\, UT\, 84775\, United States
ATTACH;FMTTYPE=image/png:https://www.entradainstitute.org/wp-content/uploads/2019/08/2019_Entrada_Brochure_Cover.png
ORGANIZER;CN="Don Gomes":MAILTO:sunset@entradainstitute.org
END:VEVENT
BEGIN:VEVENT
DTSTART;TZID=America/Denver:20230414T190000
DTEND;TZID=America/Denver:20230414T200000
DTSTAMP:20260421T003349
CREATED:20230105T181745Z
LAST-MODIFIED:20230105T183726Z
UID:8855-1681498800-1681502400@www.entradainstitute.org
SUMMARY:HAWKWATCH INTERNATIONAL
DESCRIPTION:HAWKWATCH INTERNATIONAL: Raptors of the Colorado Plateau
URL:https://www.entradainstitute.org/event/hawkwatch-international-2/
LOCATION:ROBBERS ROOST\, 185 West Main Street\, Torrey\, UT\, 84775\, United States
ATTACH;FMTTYPE=image/png:https://www.entradainstitute.org/wp-content/uploads/2019/08/2019_Entrada_Brochure_Cover.png
ORGANIZER;CN="Don Gomes":MAILTO:sunset@entradainstitute.org
END:VEVENT
BEGIN:VEVENT
DTSTART;TZID=America/Denver:20230406T190000
DTEND;TZID=America/Denver:20230406T200000
DTSTAMP:20260421T003350
CREATED:20221121T231052Z
LAST-MODIFIED:20230105T181636Z
UID:8794-1680807600-1680811200@www.entradainstitute.org
SUMMARY:CLASSIC CONVERSATIONS: GUY TAL
DESCRIPTION:Guy Tal: photographer\, author
URL:https://www.entradainstitute.org/event/classic-conversations-guy-tal/
LOCATION:ROBBERS ROOST\, 185 West Main Street\, Torrey\, UT\, 84775\, United States
ATTACH;FMTTYPE=image/png:https://www.entradainstitute.org/wp-content/uploads/2019/08/2019_Entrada_Brochure_Cover.png
ORGANIZER;CN="Don Gomes":MAILTO:sunset@entradainstitute.org
END:VEVENT
BEGIN:VEVENT
DTSTART;TZID=America/Denver:20230402T190000
DTEND;TZID=America/Denver:20230402T200000
DTSTAMP:20260421T003350
CREATED:20230220T172156Z
LAST-MODIFIED:20230220T172349Z
UID:8872-1680462000-1680465600@www.entradainstitute.org
SUMMARY:AMANDA PODMORE\, GRAND CANYON TRUST
DESCRIPTION:AMANDA PODMORE\, GRAND CANYON TRUST: “State of The Grand Canyon”
URL:https://www.entradainstitute.org/event/amanda-podmore/
LOCATION:ROBBERS ROOST\, 185 West Main Street\, Torrey\, UT\, 84775\, United States
ATTACH;FMTTYPE=image/png:https://www.entradainstitute.org/wp-content/uploads/2019/08/2019_Entrada_Brochure_Cover.png
ORGANIZER;CN="Don Gomes":MAILTO:sunset@entradainstitute.org
END:VEVENT
BEGIN:VEVENT
DTSTART;TZID=America/Denver:20230318T190000
DTEND;TZID=America/Denver:20230318T200000
DTSTAMP:20260421T003350
CREATED:20221121T230311Z
LAST-MODIFIED:20230125T172147Z
UID:8790-1679166000-1679169600@www.entradainstitute.org
SUMMARY:JAMIE SKIDMORE: ANASAZI STATE PARK MUSEUM
DESCRIPTION:JAMIE SKIDMORE: ANASAZI STATE PARK MUSEUM
URL:https://www.entradainstitute.org/event/jamie-skidmore-anasazi-state-park-museum/
LOCATION:ROBBERS ROOST\, 185 West Main Street\, Torrey\, UT\, 84775\, United States
ATTACH;FMTTYPE=image/png:https://www.entradainstitute.org/wp-content/uploads/2019/08/2019_Entrada_Brochure_Cover.png
ORGANIZER;CN="Don Gomes":MAILTO:sunset@entradainstitute.org
END:VEVENT
BEGIN:VEVENT
DTSTART;TZID=America/Denver:20230311T190000
DTEND;TZID=America/Denver:20230311T200000
DTSTAMP:20260421T003350
CREATED:20221121T230647Z
LAST-MODIFIED:20230105T181503Z
UID:8792-1678561200-1678564800@www.entradainstitute.org
SUMMARY:DAVID STARR: MUSIC NEW & VINTAGE
DESCRIPTION:DAVID STARR: MUSIC NEW & VINTAGE
URL:https://www.entradainstitute.org/event/david-starr-music-new-vintage/
LOCATION:ROBBERS ROOST\, 185 West Main Street\, Torrey\, UT\, 84775\, United States
ATTACH;FMTTYPE=image/png:https://www.entradainstitute.org/wp-content/uploads/2019/08/2019_Entrada_Brochure_Cover.png
ORGANIZER;CN="Don Gomes":MAILTO:sunset@entradainstitute.org
END:VEVENT
BEGIN:VEVENT
DTSTART;TZID=America/Denver:20230304T190000
DTEND;TZID=America/Denver:20230304T200000
DTSTAMP:20260421T003350
CREATED:20230105T230154Z
LAST-MODIFIED:20230105T230154Z
UID:8861-1677956400-1677960000@www.entradainstitute.org
SUMMARY:BUTCH & JEANNIE JENSEN - TAVAPUTS RANCH
DESCRIPTION:BUTCH & JEANNIE JENSEN – TAVAPUTS RANCH
URL:https://www.entradainstitute.org/event/butch-jeannie-jensen-tavaputs-ranch/
LOCATION:ROBBERS ROOST\, 185 West Main Street\, Torrey\, UT\, 84775\, United States
ATTACH;FMTTYPE=image/png:https://www.entradainstitute.org/wp-content/uploads/2019/08/2019_Entrada_Brochure_Cover.png
ORGANIZER;CN="Don Gomes":MAILTO:sunset@entradainstitute.org
END:VEVENT
BEGIN:VEVENT
DTSTART;TZID=America/Denver:20230302T190000
DTEND;TZID=America/Denver:20230302T200000
DTSTAMP:20260421T003350
CREATED:20221123T231900Z
LAST-MODIFIED:20230105T225638Z
UID:8806-1677783600-1677787200@www.entradainstitute.org
SUMMARY:CLASSIC CONVERSATIONS: SHANE BRIAN
DESCRIPTION:CLASSIC CONVERSATIONS: SHANE BRIAN
URL:https://www.entradainstitute.org/event/classic-conversations-shane-brian/
LOCATION:ROBBERS ROOST\, 185 West Main Street\, Torrey\, UT\, 84775\, United States
ATTACH;FMTTYPE=image/png:https://www.entradainstitute.org/wp-content/uploads/2019/08/2019_Entrada_Brochure_Cover.png
ORGANIZER;CN="Don Gomes":MAILTO:sunset@entradainstitute.org
END:VEVENT
BEGIN:VEVENT
DTSTART;TZID=America/Denver:20230202T190000
DTEND;TZID=America/Denver:20230202T200000
DTSTAMP:20260421T003350
CREATED:20221121T230033Z
LAST-MODIFIED:20230105T181048Z
UID:8788-1675364400-1675368000@www.entradainstitute.org
SUMMARY:CLASSIC CONVERSATIONS: LYNSEY SHELAR
DESCRIPTION:LYNSEY SHELAR\, musician\, teacher
URL:https://www.entradainstitute.org/event/classic-conversation-lynsey-shelar/
LOCATION:ROBBERS ROOST\, 185 West Main Street\, Torrey\, UT\, 84775\, United States
ATTACH;FMTTYPE=image/png:https://www.entradainstitute.org/wp-content/uploads/2019/08/2019_Entrada_Brochure_Cover.png
ORGANIZER;CN="Don Gomes":MAILTO:sunset@entradainstitute.org
END:VEVENT
BEGIN:VEVENT
DTSTART;TZID=America/Denver:20230123T190000
DTEND;TZID=America/Denver:20230123T200000
DTSTAMP:20260421T003350
CREATED:20230117T000505Z
LAST-MODIFIED:20230117T000505Z
UID:8865-1674500400-1674504000@www.entradainstitute.org
SUMMARY:BONNIE MANGOLD: ADDED PERFORMANCE!!
DESCRIPTION:BONNIE MANGOLD (ADDED PERFORMANCE): Cello Recital & Discussion
URL:https://www.entradainstitute.org/event/bonnie-mangold-added-performance/
LOCATION:ROBBERS ROOST\, 185 West Main Street\, Torrey\, UT\, 84775\, United States
ATTACH;FMTTYPE=image/png:https://www.entradainstitute.org/wp-content/uploads/2019/08/2019_Entrada_Brochure_Cover.png
ORGANIZER;CN="Don Gomes":MAILTO:sunset@entradainstitute.org
END:VEVENT
BEGIN:VEVENT
DTSTART;TZID=America/Denver:20230121T190000
DTEND;TZID=America/Denver:20230121T200000
DTSTAMP:20260421T003350
CREATED:20221121T225833Z
LAST-MODIFIED:20230105T180921Z
UID:8786-1674327600-1674331200@www.entradainstitute.org
SUMMARY:BONNIE MANGOLD
DESCRIPTION:BONNIE MANGOLD: Cello Recital & Discussion
URL:https://www.entradainstitute.org/event/bonnie-mangold/
LOCATION:ROBBERS ROOST\, 185 West Main Street\, Torrey\, UT\, 84775\, United States
ATTACH;FMTTYPE=image/png:https://www.entradainstitute.org/wp-content/uploads/2019/08/2019_Entrada_Brochure_Cover.png
ORGANIZER;CN="Don Gomes":MAILTO:sunset@entradainstitute.org
END:VEVENT
BEGIN:VEVENT
DTSTART;TZID=America/Denver:20230105T180000
DTEND;TZID=America/Denver:20230105T190000
DTSTAMP:20260421T003350
CREATED:20221121T225553Z
LAST-MODIFIED:20221123T231643Z
UID:8784-1672941600-1672945200@www.entradainstitute.org
SUMMARY:CLASSIC CONVERSATIONS: BARRY SCHOLL
DESCRIPTION:Barry Scholl\, writer\, attorney\, musician
URL:https://www.entradainstitute.org/event/classic-conversation-barry-scholl/
LOCATION:ROBBERS ROOST\, 185 West Main Street\, Torrey\, UT\, 84775\, United States
ATTACH;FMTTYPE=image/png:https://www.entradainstitute.org/wp-content/uploads/2019/08/2019_Entrada_Brochure_Cover.png
ORGANIZER;CN="Don Gomes":MAILTO:sunset@entradainstitute.org
END:VEVENT
BEGIN:VEVENT
DTSTART;TZID=America/Denver:20221218T180000
DTEND;TZID=America/Denver:20221218T200000
DTSTAMP:20260421T003350
CREATED:20221123T231249Z
LAST-MODIFIED:20221123T234028Z
UID:8782-1671386400-1671393600@www.entradainstitute.org
SUMMARY:TORREY INTERFAITH COUNCIL: CHRISTMAS PROGRAM
DESCRIPTION:Christmas Program at Torrey Ward of the Church of Jesus Christ of Latter-Day Saints
URL:https://www.entradainstitute.org/event/torrey-interfaith-council-christmas-program/
LOCATION:TORREY WARD BUILDING – THE CHURCH OF JESUS CHRIST OF LATTER-DAY SAINTS\, Highway 24\, Torrey\, UT\, United States
ATTACH;FMTTYPE=image/png:https://www.entradainstitute.org/wp-content/uploads/2019/08/2019_Entrada_Brochure_Cover.png
ORGANIZER;CN="Don Gomes":MAILTO:sunset@entradainstitute.org
END:VEVENT
BEGIN:VEVENT
DTSTART;TZID=America/Denver:20221217T180000
DTEND;TZID=America/Denver:20221217T190000
DTSTAMP:20260421T003350
CREATED:20221216T004927Z
LAST-MODIFIED:20221216T004927Z
UID:8819-1671300000-1671303600@www.entradainstitute.org
SUMMARY:ANNUAL FRIENDRAISER & LIVE AUCTION
DESCRIPTION:ANNUAL FRIENDRAISER & LIVE AUCTION
URL:https://www.entradainstitute.org/event/annual-friendraiser-live-auction/
LOCATION:ROBBERS ROOST\, 185 West Main Street\, Torrey\, UT\, 84775\, United States
ATTACH;FMTTYPE=image/png:https://www.entradainstitute.org/wp-content/uploads/2019/08/2019_Entrada_Brochure_Cover.png
ORGANIZER;CN="Don Gomes":MAILTO:sunset@entradainstitute.org
END:VEVENT
END:VCALENDAR